BEGIN:VCALENDAR
VERSION:2.0
PRODID:-//Speelakker - ECPv6.15.20//NONSGML v1.0//EN
CALSCALE:GREGORIAN
METHOD:PUBLISH
X-ORIGINAL-URL:https://www.speelakker.nl
X-WR-CALDESC:Evenementen voor Speelakker
REFRESH-INTERVAL;VALUE=DURATION:PT1H
X-Robots-Tag:noindex
X-PUBLISHED-TTL:PT1H
BEGIN:VTIMEZONE
TZID:Europe/Amsterdam
BEGIN:DAYLIGHT
TZOFFSETFROM:+0100
TZOFFSETTO:+0200
TZNAME:CEST
DTSTART:20240331T010000
END:DAYLIGHT
BEGIN:STANDARD
TZOFFSETFROM:+0200
TZOFFSETTO:+0100
TZNAME:CET
DTSTART:20241027T010000
END:STANDARD
BEGIN:DAYLIGHT
TZOFFSETFROM:+0100
TZOFFSETTO:+0200
TZNAME:CEST
DTSTART:20250330T010000
END:DAYLIGHT
BEGIN:STANDARD
TZOFFSETFROM:+0200
TZOFFSETTO:+0100
TZNAME:CET
DTSTART:20251026T010000
END:STANDARD
BEGIN:DAYLIGHT
TZOFFSETFROM:+0100
TZOFFSETTO:+0200
TZNAME:CEST
DTSTART:20260329T010000
END:DAYLIGHT
BEGIN:STANDARD
TZOFFSETFROM:+0200
TZOFFSETTO:+0100
TZNAME:CET
DTSTART:20261025T010000
END:STANDARD
END:VTIMEZONE
BEGIN:VEVENT
DTSTART;TZID=Europe/Amsterdam:20250608T100000
DTEND;TZID=Europe/Amsterdam:20250608T133000
DTSTAMP:20260425T005538
CREATED:20250302T182658Z
LAST-MODIFIED:20250313T205437Z
UID:1456-1749376800-1749389400@www.speelakker.nl
SUMMARY:Groot verhuur
DESCRIPTION:
URL:https://www.speelakker.nl/event/groot-verhuur-voorlopig/
CATEGORIES:Groot verhuur
END:VEVENT
BEGIN:VEVENT
DTSTART;TZID=Europe/Amsterdam:20250611T100000
DTEND;TZID=Europe/Amsterdam:20250611T133000
DTSTAMP:20260425T005538
CREATED:20250516T141023Z
LAST-MODIFIED:20250516T141023Z
UID:1489-1749636000-1749648600@www.speelakker.nl
SUMMARY:Groot verhuur
DESCRIPTION:
URL:https://www.speelakker.nl/event/groot-verhuur-11/
CATEGORIES:Groot verhuur
END:VEVENT
BEGIN:VEVENT
DTSTART;TZID=Europe/Amsterdam:20250617T100000
DTEND;TZID=Europe/Amsterdam:20250617T133000
DTSTAMP:20260425T005538
CREATED:20250429T193445Z
LAST-MODIFIED:20250429T193445Z
UID:1480-1750154400-1750167000@www.speelakker.nl
SUMMARY:Groot verhuur
DESCRIPTION:
URL:https://www.speelakker.nl/event/groot-verhuur-10/
CATEGORIES:Groot verhuur
END:VEVENT
BEGIN:VEVENT
DTSTART;TZID=Europe/Amsterdam:20250621T100000
DTEND;TZID=Europe/Amsterdam:20250621T133000
DTSTAMP:20260425T005538
CREATED:20250219T154303Z
LAST-MODIFIED:20250219T154303Z
UID:1453-1750500000-1750512600@www.speelakker.nl
SUMMARY:Groot verhuur
DESCRIPTION:
URL:https://www.speelakker.nl/event/groot-verhuur-6/
CATEGORIES:Groot verhuur
END:VEVENT
BEGIN:VEVENT
DTSTART;TZID=Europe/Amsterdam:20250622T100000
DTEND;TZID=Europe/Amsterdam:20250622T133000
DTSTAMP:20260425T005538
CREATED:20250522T134858Z
LAST-MODIFIED:20250522T134858Z
UID:1494-1750586400-1750599000@www.speelakker.nl
SUMMARY:Groot verhuur
DESCRIPTION:
URL:https://www.speelakker.nl/event/groot-verhuur-12/
CATEGORIES:Groot verhuur
END:VEVENT
BEGIN:VEVENT
DTSTART;TZID=Europe/Amsterdam:20250625T104500
DTEND;TZID=Europe/Amsterdam:20250625T121500
DTSTAMP:20260425T005538
CREATED:20250605T065404Z
LAST-MODIFIED:20250605T065404Z
UID:1510-1750848300-1750853700@www.speelakker.nl
SUMMARY:Groot verhuur
DESCRIPTION:
URL:https://www.speelakker.nl/event/groot-verhuur-16/
CATEGORIES:Groot verhuur
END:VEVENT
BEGIN:VEVENT
DTSTART;TZID=Europe/Amsterdam:20250628T100000
DTEND;TZID=Europe/Amsterdam:20250628T133000
DTSTAMP:20260425T005538
CREATED:20250621T073941Z
LAST-MODIFIED:20250621T073941Z
UID:1524-1751104800-1751117400@www.speelakker.nl
SUMMARY:Groot verhuur
DESCRIPTION:
URL:https://www.speelakker.nl/event/groot-verhuur-18/
CATEGORIES:Groot verhuur
END:VEVENT
END:VCALENDAR