BEGIN:VCALENDAR
VERSION:2.0
PRODID:-//Speelakker - ECPv6.15.20//NONSGML v1.0//EN
CALSCALE:GREGORIAN
METHOD:PUBLISH
X-ORIGINAL-URL:https://www.speelakker.nl
X-WR-CALDESC:Evenementen voor Speelakker
REFRESH-INTERVAL;VALUE=DURATION:PT1H
X-Robots-Tag:noindex
X-PUBLISHED-TTL:PT1H
BEGIN:VTIMEZONE
TZID:Europe/Amsterdam
BEGIN:DAYLIGHT
TZOFFSETFROM:+0100
TZOFFSETTO:+0200
TZNAME:CEST
DTSTART:20240331T010000
END:DAYLIGHT
BEGIN:STANDARD
TZOFFSETFROM:+0200
TZOFFSETTO:+0100
TZNAME:CET
DTSTART:20241027T010000
END:STANDARD
BEGIN:DAYLIGHT
TZOFFSETFROM:+0100
TZOFFSETTO:+0200
TZNAME:CEST
DTSTART:20250330T010000
END:DAYLIGHT
BEGIN:STANDARD
TZOFFSETFROM:+0200
TZOFFSETTO:+0100
TZNAME:CET
DTSTART:20251026T010000
END:STANDARD
BEGIN:DAYLIGHT
TZOFFSETFROM:+0100
TZOFFSETTO:+0200
TZNAME:CEST
DTSTART:20260329T010000
END:DAYLIGHT
BEGIN:STANDARD
TZOFFSETFROM:+0200
TZOFFSETTO:+0100
TZNAME:CET
DTSTART:20261025T010000
END:STANDARD
END:VTIMEZONE
BEGIN:VEVENT
DTSTART;TZID=Europe/Amsterdam:20250706T100000
DTEND;TZID=Europe/Amsterdam:20250706T133000
DTSTAMP:20260424T230844
CREATED:20250603T205606Z
LAST-MODIFIED:20250603T205803Z
UID:1505-1751796000-1751808600@www.speelakker.nl
SUMMARY:Groot verhuur
DESCRIPTION:
URL:https://www.speelakker.nl/event/groot-verhuur-15/
CATEGORIES:Groot verhuur
END:VEVENT
BEGIN:VEVENT
DTSTART;TZID=Europe/Amsterdam:20250708T100000
DTEND;TZID=Europe/Amsterdam:20250708T133000
DTSTAMP:20260424T230844
CREATED:20250527T082353Z
LAST-MODIFIED:20250603T210933Z
UID:1502-1751968800-1751981400@www.speelakker.nl
SUMMARY:Groot verhuur
DESCRIPTION:
URL:https://www.speelakker.nl/event/groot-verhuur-14/
CATEGORIES:Groot verhuur
END:VEVENT
BEGIN:VEVENT
DTSTART;TZID=Europe/Amsterdam:20250714T173000
DTEND;TZID=Europe/Amsterdam:20250714T200000
DTSTAMP:20260424T230844
CREATED:20250609T201352Z
LAST-MODIFIED:20250609T201352Z
UID:1514-1752514200-1752523200@www.speelakker.nl
SUMMARY:eigen activiteit
DESCRIPTION:
URL:https://www.speelakker.nl/event/eigen-activiteit-6/
CATEGORIES:Groot verhuur
END:VEVENT
BEGIN:VEVENT
DTSTART;TZID=Europe/Amsterdam:20250723T100000
DTEND;TZID=Europe/Amsterdam:20250723T133000
DTSTAMP:20260424T230844
CREATED:20250618T083738Z
LAST-MODIFIED:20250618T092259Z
UID:1520-1753264800-1753277400@www.speelakker.nl
SUMMARY:Groot verhuur
DESCRIPTION:
URL:https://www.speelakker.nl/event/groot-verhuur-17/
CATEGORIES:Groot verhuur
END:VEVENT
END:VCALENDAR