BEGIN:VCALENDAR
VERSION:2.0
PRODID:-//Speelakker - ECPv6.15.20//NONSGML v1.0//EN
CALSCALE:GREGORIAN
METHOD:PUBLISH
X-WR-CALNAME:Speelakker
X-ORIGINAL-URL:https://www.speelakker.nl
X-WR-CALDESC:Evenementen voor Speelakker
REFRESH-INTERVAL;VALUE=DURATION:PT1H
X-Robots-Tag:noindex
X-PUBLISHED-TTL:PT1H
BEGIN:VTIMEZONE
TZID:Europe/Paris
BEGIN:DAYLIGHT
TZOFFSETFROM:+0100
TZOFFSETTO:+0200
TZNAME:CEST
DTSTART:20230326T010000
END:DAYLIGHT
BEGIN:STANDARD
TZOFFSETFROM:+0200
TZOFFSETTO:+0100
TZNAME:CET
DTSTART:20231029T010000
END:STANDARD
BEGIN:DAYLIGHT
TZOFFSETFROM:+0100
TZOFFSETTO:+0200
TZNAME:CEST
DTSTART:20240331T010000
END:DAYLIGHT
BEGIN:STANDARD
TZOFFSETFROM:+0200
TZOFFSETTO:+0100
TZNAME:CET
DTSTART:20241027T010000
END:STANDARD
BEGIN:DAYLIGHT
TZOFFSETFROM:+0100
TZOFFSETTO:+0200
TZNAME:CEST
DTSTART:20250330T010000
END:DAYLIGHT
BEGIN:STANDARD
TZOFFSETFROM:+0200
TZOFFSETTO:+0100
TZNAME:CET
DTSTART:20251026T010000
END:STANDARD
END:VTIMEZONE
BEGIN:VEVENT
DTSTART;TZID=Europe/Paris:20240601T133000
DTEND;TZID=Europe/Paris:20240601T170000
DTSTAMP:20260425T201826
CREATED:20240415T190610Z
LAST-MODIFIED:20240415T190610Z
UID:1253-1717248600-1717261200@www.speelakker.nl
SUMMARY:Klein verhuur
DESCRIPTION:
URL:https://www.speelakker.nl/event/klein-verhuur-5/
END:VEVENT
BEGIN:VEVENT
DTSTART;VALUE=DATE:20240603
DTEND;VALUE=DATE:20240604
DTSTAMP:20260425T201826
CREATED:20240601T172810Z
LAST-MODIFIED:20240601T173001Z
UID:1274-1717372800-1717459199@www.speelakker.nl
SUMMARY:Speeltuin gesloten wegens gebrek aan vrijwilligers!
DESCRIPTION:
URL:https://www.speelakker.nl/event/speeltuin-gesloten-wegens-gebrek-aan-vrijwilligers-9/
END:VEVENT
BEGIN:VEVENT
DTSTART;TZID=Europe/Paris:20240609T100000
DTEND;TZID=Europe/Paris:20240609T133000
DTSTAMP:20260425T201826
CREATED:20240410T085406Z
LAST-MODIFIED:20240410T085406Z
UID:1248-1717927200-1717939800@www.speelakker.nl
SUMMARY:Groot verhuur
DESCRIPTION:
URL:https://www.speelakker.nl/event/groot-verhuur-5/
END:VEVENT
BEGIN:VEVENT
DTSTART;VALUE=DATE:20240617
DTEND;VALUE=DATE:20240618
DTSTAMP:20260425T201826
CREATED:20240601T173730Z
LAST-MODIFIED:20240601T173730Z
UID:1278-1718582400-1718668799@www.speelakker.nl
SUMMARY:Speeltuin gesloten wegens gebrek aan vrijwilligers!
DESCRIPTION:
URL:https://www.speelakker.nl/event/speeltuin-gesloten-wegens-gebrek-aan-vrijwilligers-10/
END:VEVENT
BEGIN:VEVENT
DTSTART;TZID=Europe/Paris:20240622T100000
DTEND;TZID=Europe/Paris:20240622T133000
DTSTAMP:20260425T201826
CREATED:20240404T202139Z
LAST-MODIFIED:20240404T202139Z
UID:1224-1719050400-1719063000@www.speelakker.nl
SUMMARY:Groot verhuur
DESCRIPTION:
URL:https://www.speelakker.nl/event/groot-verhuur/
END:VEVENT
BEGIN:VEVENT
DTSTART;TZID=Europe/Paris:20240626T100000
DTEND;TZID=Europe/Paris:20240626T133000
DTSTAMP:20260425T201826
CREATED:20240518T165436Z
LAST-MODIFIED:20240518T165436Z
UID:1261-1719396000-1719408600@www.speelakker.nl
SUMMARY:Groot Verhuur
DESCRIPTION:
URL:https://www.speelakker.nl/event/groot-verhuur-7/
CATEGORIES:Groot verhuur
END:VEVENT
BEGIN:VEVENT
DTSTART;TZID=Europe/Paris:20240626T133000
DTEND;TZID=Europe/Paris:20240626T170000
DTSTAMP:20260425T201826
CREATED:20240530T191243Z
LAST-MODIFIED:20240530T191243Z
UID:1267-1719408600-1719421200@www.speelakker.nl
SUMMARY:Klein verhuur
DESCRIPTION:
URL:https://www.speelakker.nl/event/klein-verhuur-6/
CATEGORIES:Klein verhuur
END:VEVENT
BEGIN:VEVENT
DTSTART;TZID=Europe/Paris:20240629T100000
DTEND;TZID=Europe/Paris:20240629T133000
DTSTAMP:20260425T201826
CREATED:20240409T071827Z
LAST-MODIFIED:20240409T071827Z
UID:1238-1719655200-1719667800@www.speelakker.nl
SUMMARY:Groot verhuur
DESCRIPTION:
URL:https://www.speelakker.nl/event/groot-verhuur-4/
END:VEVENT
BEGIN:VEVENT
DTSTART;TZID=Europe/Paris:20240630T133000
DTEND;TZID=Europe/Paris:20240630T170000
DTSTAMP:20260425T201826
CREATED:20240601T172255Z
LAST-MODIFIED:20240601T172346Z
UID:1271-1719754200-1719766800@www.speelakker.nl
SUMMARY:Klein verhuur
DESCRIPTION:
URL:https://www.speelakker.nl/event/klein-verhuur-7/
CATEGORIES:Klein verhuur
END:VEVENT
END:VCALENDAR