BEGIN:VCALENDAR
VERSION:2.0
PRODID:-//Speelakker - ECPv6.15.20//NONSGML v1.0//EN
CALSCALE:GREGORIAN
METHOD:PUBLISH
X-WR-CALNAME:Speelakker
X-ORIGINAL-URL:https://www.speelakker.nl
X-WR-CALDESC:Evenementen voor Speelakker
REFRESH-INTERVAL;VALUE=DURATION:PT1H
X-Robots-Tag:noindex
X-PUBLISHED-TTL:PT1H
BEGIN:VTIMEZONE
TZID:Europe/Paris
BEGIN:DAYLIGHT
TZOFFSETFROM:+0100
TZOFFSETTO:+0200
TZNAME:CEST
DTSTART:20230326T010000
END:DAYLIGHT
BEGIN:STANDARD
TZOFFSETFROM:+0200
TZOFFSETTO:+0100
TZNAME:CET
DTSTART:20231029T010000
END:STANDARD
BEGIN:DAYLIGHT
TZOFFSETFROM:+0100
TZOFFSETTO:+0200
TZNAME:CEST
DTSTART:20240331T010000
END:DAYLIGHT
BEGIN:STANDARD
TZOFFSETFROM:+0200
TZOFFSETTO:+0100
TZNAME:CET
DTSTART:20241027T010000
END:STANDARD
BEGIN:DAYLIGHT
TZOFFSETFROM:+0100
TZOFFSETTO:+0200
TZNAME:CEST
DTSTART:20250330T010000
END:DAYLIGHT
BEGIN:STANDARD
TZOFFSETFROM:+0200
TZOFFSETTO:+0100
TZNAME:CET
DTSTART:20251026T010000
END:STANDARD
END:VTIMEZONE
BEGIN:VEVENT
DTSTART;TZID=Europe/Paris:20240712T100000
DTEND;TZID=Europe/Paris:20240712T133000
DTSTAMP:20260425T182728
CREATED:20240528T185946Z
LAST-MODIFIED:20240528T190225Z
UID:1265-1720778400-1720791000@www.speelakker.nl
SUMMARY:Groot verhuur
DESCRIPTION:
URL:https://www.speelakker.nl/event/groot-verhuur-8/
END:VEVENT
BEGIN:VEVENT
DTSTART;TZID=Europe/Paris:20240714T100000
DTEND;TZID=Europe/Paris:20240714T170000
DTSTAMP:20260425T182728
CREATED:20240530T191742Z
LAST-MODIFIED:20240530T191742Z
UID:1269-1720951200-1720976400@www.speelakker.nl
SUMMARY:Verjaardag Speelakker
DESCRIPTION:
URL:https://www.speelakker.nl/event/verjaardag-speelakker/
END:VEVENT
BEGIN:VEVENT
DTSTART;TZID=Europe/Paris:20240731T133000
DTEND;TZID=Europe/Paris:20240731T170000
DTSTAMP:20260425T182728
CREATED:20240710T063106Z
LAST-MODIFIED:20240710T063106Z
UID:1288-1722432600-1722445200@www.speelakker.nl
SUMMARY:Klein verhuur
DESCRIPTION:
URL:https://www.speelakker.nl/event/klein-verhuur-8/
CATEGORIES:Klein verhuur
END:VEVENT
END:VCALENDAR