BEGIN:VCALENDAR
VERSION:2.0
PRODID:-//Speelakker - ECPv6.15.20//NONSGML v1.0//EN
CALSCALE:GREGORIAN
METHOD:PUBLISH
X-ORIGINAL-URL:https://www.speelakker.nl
X-WR-CALDESC:Evenementen voor Speelakker
REFRESH-INTERVAL;VALUE=DURATION:PT1H
X-Robots-Tag:noindex
X-PUBLISHED-TTL:PT1H
BEGIN:VTIMEZONE
TZID:Europe/Amsterdam
BEGIN:DAYLIGHT
TZOFFSETFROM:+0100
TZOFFSETTO:+0200
TZNAME:CEST
DTSTART:20240331T010000
END:DAYLIGHT
BEGIN:STANDARD
TZOFFSETFROM:+0200
TZOFFSETTO:+0100
TZNAME:CET
DTSTART:20241027T010000
END:STANDARD
BEGIN:DAYLIGHT
TZOFFSETFROM:+0100
TZOFFSETTO:+0200
TZNAME:CEST
DTSTART:20250330T010000
END:DAYLIGHT
BEGIN:STANDARD
TZOFFSETFROM:+0200
TZOFFSETTO:+0100
TZNAME:CET
DTSTART:20251026T010000
END:STANDARD
BEGIN:DAYLIGHT
TZOFFSETFROM:+0100
TZOFFSETTO:+0200
TZNAME:CEST
DTSTART:20260329T010000
END:DAYLIGHT
BEGIN:STANDARD
TZOFFSETFROM:+0200
TZOFFSETTO:+0100
TZNAME:CET
DTSTART:20261025T010000
END:STANDARD
END:VTIMEZONE
BEGIN:VEVENT
DTSTART;TZID=Europe/Amsterdam:20250830T133000
DTEND;TZID=Europe/Amsterdam:20250830T170000
DTSTAMP:20260424T195055
CREATED:20250708T191846Z
LAST-MODIFIED:20250708T191846Z
UID:1537-1756560600-1756573200@www.speelakker.nl
SUMMARY:Klein verhuur
DESCRIPTION:
URL:https://www.speelakker.nl/event/klein-verhuur-23/
CATEGORIES:Klein verhuur
END:VEVENT
BEGIN:VEVENT
DTSTART;TZID=Europe/Amsterdam:20250831T100000
DTEND;TZID=Europe/Amsterdam:20250831T133000
DTSTAMP:20260424T195055
CREATED:20250702T194801Z
LAST-MODIFIED:20250702T194801Z
UID:1530-1756634400-1756647000@www.speelakker.nl
SUMMARY:Groot verhuur
DESCRIPTION:
URL:https://www.speelakker.nl/event/groot-verhuur-19/
CATEGORIES:Groot verhuur
END:VEVENT
BEGIN:VEVENT
DTSTART;TZID=Europe/Amsterdam:20250831T133000
DTEND;TZID=Europe/Amsterdam:20250831T170000
DTSTAMP:20260424T195055
CREATED:20250719T131613Z
LAST-MODIFIED:20250719T131613Z
UID:1541-1756647000-1756659600@www.speelakker.nl
SUMMARY:Klein verhuur
DESCRIPTION:
URL:https://www.speelakker.nl/event/klein-verhuur-19/
CATEGORIES:Klein verhuur
END:VEVENT
END:VCALENDAR