BEGIN:VCALENDAR
VERSION:2.0
PRODID:-//Speelakker - ECPv6.15.20//NONSGML v1.0//EN
CALSCALE:GREGORIAN
METHOD:PUBLISH
X-WR-CALNAME:Speelakker
X-ORIGINAL-URL:https://www.speelakker.nl
X-WR-CALDESC:Evenementen voor Speelakker
REFRESH-INTERVAL;VALUE=DURATION:PT1H
X-Robots-Tag:noindex
X-PUBLISHED-TTL:PT1H
BEGIN:VTIMEZONE
TZID:Europe/Amsterdam
BEGIN:DAYLIGHT
TZOFFSETFROM:+0100
TZOFFSETTO:+0200
TZNAME:CEST
DTSTART:20240331T010000
END:DAYLIGHT
BEGIN:STANDARD
TZOFFSETFROM:+0200
TZOFFSETTO:+0100
TZNAME:CET
DTSTART:20241027T010000
END:STANDARD
BEGIN:DAYLIGHT
TZOFFSETFROM:+0100
TZOFFSETTO:+0200
TZNAME:CEST
DTSTART:20250330T010000
END:DAYLIGHT
BEGIN:STANDARD
TZOFFSETFROM:+0200
TZOFFSETTO:+0100
TZNAME:CET
DTSTART:20251026T010000
END:STANDARD
BEGIN:DAYLIGHT
TZOFFSETFROM:+0100
TZOFFSETTO:+0200
TZNAME:CEST
DTSTART:20260329T010000
END:DAYLIGHT
BEGIN:STANDARD
TZOFFSETFROM:+0200
TZOFFSETTO:+0100
TZNAME:CET
DTSTART:20261025T010000
END:STANDARD
END:VTIMEZONE
BEGIN:VEVENT
DTSTART;VALUE=DATE:20250904
DTEND;VALUE=DATE:20250906
DTSTAMP:20260424T180750
CREATED:20250623T075442Z
LAST-MODIFIED:20250623T075442Z
UID:1526-1756944000-1757116799@www.speelakker.nl
SUMMARY:eigen activiteit
DESCRIPTION:
URL:https://www.speelakker.nl/event/eigen-activiteit-5/
END:VEVENT
BEGIN:VEVENT
DTSTART;TZID=Europe/Amsterdam:20250914T100000
DTEND;TZID=Europe/Amsterdam:20250914T133000
DTSTAMP:20260424T180750
CREATED:20250909T103232Z
LAST-MODIFIED:20250909T103232Z
UID:1556-1757844000-1757856600@www.speelakker.nl
SUMMARY:Eigen activiteit
DESCRIPTION:
URL:https://www.speelakker.nl/event/eigen-activiteit-8/
CATEGORIES:Groot verhuur
END:VEVENT
BEGIN:VEVENT
DTSTART;TZID=Europe/Amsterdam:20250920T133000
DTEND;TZID=Europe/Amsterdam:20250920T170000
DTSTAMP:20260424T180750
CREATED:20250829T102438Z
LAST-MODIFIED:20250829T102438Z
UID:1550-1758375000-1758387600@www.speelakker.nl
SUMMARY:Klein verhuur
DESCRIPTION:
URL:https://www.speelakker.nl/event/klein-verhuur-25/
CATEGORIES:Klein verhuur
END:VEVENT
BEGIN:VEVENT
DTSTART;TZID=Europe/Amsterdam:20250926T100000
DTEND;TZID=Europe/Amsterdam:20250926T133000
DTSTAMP:20260424T180750
CREATED:20250909T103329Z
LAST-MODIFIED:20250909T103329Z
UID:1558-1758880800-1758893400@www.speelakker.nl
SUMMARY:Eigen activiteit
DESCRIPTION:
URL:https://www.speelakker.nl/event/eigen-activiteit-9/
CATEGORIES:Groot verhuur
END:VEVENT
END:VCALENDAR