BEGIN:VCALENDAR
VERSION:2.0
PRODID:-//Speelakker - ECPv6.15.20//NONSGML v1.0//EN
CALSCALE:GREGORIAN
METHOD:PUBLISH
X-WR-CALNAME:Speelakker
X-ORIGINAL-URL:https://www.speelakker.nl
X-WR-CALDESC:Evenementen voor Speelakker
REFRESH-INTERVAL;VALUE=DURATION:PT1H
X-Robots-Tag:noindex
X-PUBLISHED-TTL:PT1H
BEGIN:VTIMEZONE
TZID:Europe/Amsterdam
BEGIN:DAYLIGHT
TZOFFSETFROM:+0100
TZOFFSETTO:+0200
TZNAME:CEST
DTSTART:20250330T010000
END:DAYLIGHT
BEGIN:STANDARD
TZOFFSETFROM:+0200
TZOFFSETTO:+0100
TZNAME:CET
DTSTART:20251026T010000
END:STANDARD
BEGIN:DAYLIGHT
TZOFFSETFROM:+0100
TZOFFSETTO:+0200
TZNAME:CEST
DTSTART:20260329T010000
END:DAYLIGHT
BEGIN:STANDARD
TZOFFSETFROM:+0200
TZOFFSETTO:+0100
TZNAME:CET
DTSTART:20261025T010000
END:STANDARD
BEGIN:DAYLIGHT
TZOFFSETFROM:+0100
TZOFFSETTO:+0200
TZNAME:CEST
DTSTART:20270328T010000
END:DAYLIGHT
BEGIN:STANDARD
TZOFFSETFROM:+0200
TZOFFSETTO:+0100
TZNAME:CET
DTSTART:20271031T010000
END:STANDARD
END:VTIMEZONE
BEGIN:VEVENT
DTSTART;TZID=Europe/Amsterdam:20260704T100000
DTEND;TZID=Europe/Amsterdam:20260704T133000
DTSTAMP:20260424T102842
CREATED:20260414T190418Z
LAST-MODIFIED:20260414T190418Z
UID:1652-1783159200-1783171800@www.speelakker.nl
SUMMARY:Groot verhuur
DESCRIPTION:
URL:https://www.speelakker.nl/event/groot-verhuur-27/
CATEGORIES:Groot verhuur
END:VEVENT
BEGIN:VEVENT
DTSTART;TZID=Europe/Amsterdam:20260719T133000
DTEND;TZID=Europe/Amsterdam:20260719T170000
DTSTAMP:20260424T102842
CREATED:20251104T190814Z
LAST-MODIFIED:20251104T190814Z
UID:1584-1784467800-1784480400@www.speelakker.nl
SUMMARY:26e verjaardag Speelakker!!
DESCRIPTION:
URL:https://www.speelakker.nl/event/26e-verjaardag-speelakker/
END:VEVENT
END:VCALENDAR